BEGIN:VCALENDAR
VERSION:2.0
PRODID:-//Schützengau Starnberg - ECPv6.15.20//NONSGML v1.0//EN
CALSCALE:GREGORIAN
METHOD:PUBLISH
X-WR-CALNAME:Schützengau Starnberg
X-ORIGINAL-URL:https://gau-starnberg.de
X-WR-CALDESC:Veranstaltungen für Schützengau Starnberg
REFRESH-INTERVAL;VALUE=DURATION:PT1H
X-Robots-Tag:noindex
X-PUBLISHED-TTL:PT1H
BEGIN:VTIMEZONE
TZID:Europe/Berlin
BEGIN:DAYLIGHT
TZOFFSETFROM:+0100
TZOFFSETTO:+0200
TZNAME:CEST
DTSTART:20240331T010000
END:DAYLIGHT
BEGIN:STANDARD
TZOFFSETFROM:+0200
TZOFFSETTO:+0100
TZNAME:CET
DTSTART:20241027T010000
END:STANDARD
BEGIN:DAYLIGHT
TZOFFSETFROM:+0100
TZOFFSETTO:+0200
TZNAME:CEST
DTSTART:20250330T010000
END:DAYLIGHT
BEGIN:STANDARD
TZOFFSETFROM:+0200
TZOFFSETTO:+0100
TZNAME:CET
DTSTART:20251026T010000
END:STANDARD
BEGIN:DAYLIGHT
TZOFFSETFROM:+0100
TZOFFSETTO:+0200
TZNAME:CEST
DTSTART:20260329T010000
END:DAYLIGHT
BEGIN:STANDARD
TZOFFSETFROM:+0200
TZOFFSETTO:+0100
TZNAME:CET
DTSTART:20261025T010000
END:STANDARD
END:VTIMEZONE
BEGIN:VEVENT
DTSTART;VALUE=DATE:20250704
DTEND;VALUE=DATE:20250707
DTSTAMP:20260421T194359
CREATED:20250123T084114Z
LAST-MODIFIED:20250123T084114Z
UID:15519-1751587200-1751846399@gau-starnberg.de
SUMMARY:2. Wochenende Bayerische Meisterschaft
DESCRIPTION:
URL:https://gau-starnberg.de/termin/2-wochenende-bayerische-meisterschaft/
LOCATION:Olympiaschießanlage Hochbrück\, Ingolstädter Landstr. 110\, Garching / Hochbrück\, 85748
END:VEVENT
BEGIN:VEVENT
DTSTART;VALUE=DATE:20250711
DTEND;VALUE=DATE:20250714
DTSTAMP:20260421T194359
CREATED:20250123T084148Z
LAST-MODIFIED:20250123T084148Z
UID:15521-1752192000-1752451199@gau-starnberg.de
SUMMARY:3. Wochenende Bayerische Meisterschaft
DESCRIPTION:
URL:https://gau-starnberg.de/termin/3-wochenende-bayerische-meisterschaft/
LOCATION:Olympiaschießanlage Hochbrück\, Ingolstädter Landstr. 110\, Garching / Hochbrück\, 85748
END:VEVENT
BEGIN:VEVENT
DTSTART;TZID=Europe/Berlin:20250719T133000
DTEND;TZID=Europe/Berlin:20250719T180000
DTSTAMP:20260421T194359
CREATED:20250512T100636Z
LAST-MODIFIED:20250512T100636Z
UID:15711-1752931800-1752948000@gau-starnberg.de
SUMMARY:Damenausflug 2025
DESCRIPTION:
URL:https://gau-starnberg.de/termin/damenausflug-2025/
LOCATION:vor der Theatinerkirche in München
ORGANIZER;CN="Gau-Damenleitung":MAILTO:ErbKornelia@gmx.de
END:VEVENT
BEGIN:VEVENT
DTSTART;VALUE=DATE:20250726
DTEND;VALUE=DATE:20250727
DTSTAMP:20260421T194359
CREATED:20250123T084300Z
LAST-MODIFIED:20250123T084300Z
UID:15525-1753488000-1753574399@gau-starnberg.de
SUMMARY:Guschu Open
DESCRIPTION:
URL:https://gau-starnberg.de/termin/guschu-open/
LOCATION:Olympiaschießanlage Hochbrück\, Ingolstädter Landstr. 110\, Garching / Hochbrück\, 85748
END:VEVENT
END:VCALENDAR