BEGIN:VCALENDAR
VERSION:2.0
PRODID:-//Schützengau Starnberg - ECPv6.15.20//NONSGML v1.0//EN
CALSCALE:GREGORIAN
METHOD:PUBLISH
X-ORIGINAL-URL:https://gau-starnberg.de
X-WR-CALDESC:Veranstaltungen für Schützengau Starnberg
REFRESH-INTERVAL;VALUE=DURATION:PT1H
X-Robots-Tag:noindex
X-PUBLISHED-TTL:PT1H
BEGIN:VTIMEZONE
TZID:Europe/Berlin
BEGIN:DAYLIGHT
TZOFFSETFROM:+0100
TZOFFSETTO:+0200
TZNAME:CEST
DTSTART:20240331T010000
END:DAYLIGHT
BEGIN:STANDARD
TZOFFSETFROM:+0200
TZOFFSETTO:+0100
TZNAME:CET
DTSTART:20241027T010000
END:STANDARD
BEGIN:DAYLIGHT
TZOFFSETFROM:+0100
TZOFFSETTO:+0200
TZNAME:CEST
DTSTART:20250330T010000
END:DAYLIGHT
BEGIN:STANDARD
TZOFFSETFROM:+0200
TZOFFSETTO:+0100
TZNAME:CET
DTSTART:20251026T010000
END:STANDARD
BEGIN:DAYLIGHT
TZOFFSETFROM:+0100
TZOFFSETTO:+0200
TZNAME:CEST
DTSTART:20260329T010000
END:DAYLIGHT
BEGIN:STANDARD
TZOFFSETFROM:+0200
TZOFFSETTO:+0100
TZNAME:CET
DTSTART:20261025T010000
END:STANDARD
END:VTIMEZONE
BEGIN:VEVENT
DTSTART;TZID=Europe/Berlin:20250601T093000
DTEND;TZID=Europe/Berlin:20250601T173000
DTSTAMP:20260421T212415
CREATED:20250228T102444Z
LAST-MODIFIED:20250528T135222Z
UID:15614-1748770200-1748799000@gau-starnberg.de
SUMMARY:Lehrgang: 300 plus - Erfolgreich Auflageschießen
DESCRIPTION:Lehrgang ist bereits ausgebucht!!\n\nLehrgang 300 plus X – Erfolgreich Auflageschießen\n – – – – – – – – – – – – – – – – – – – – – – – – – – – – – – – – – – – – – – – – – – – – – – – – – – – – – – –\nTermin:                 Sonntag\, 01. Juni 2025 Dauer: 9:30 Uhr bis 17:30 Uhr\nLehrgangsort:      VSG Pöcking | Weilheimer Str. 33a | 82343 Pöcking\n\nFür Anfänger und Fortgeschrittene\nMeldeschluss ist der 15. Mai 2025\n– – – – – – – – – – – – – – – – – – – – – – – – – – – – – – – – – – – – – – – – – – – – – – – – – – – – – – – \nSeminarinhalt:\n• Kenntnisse im Auflageschiessen in Theorie und Praxis\n• Analysen und Techniken\n• Sicherheit und Regel\n• Ausrüstung\n• Wie werte ich Schussbilder aus\n• Möglichkeiten zu der mentalen und psychischen Leistungssteigerung\n• Vorbereitung auf dem Wettkampf\n• Der Angst vor dem Versagen – Der Umgang mit Niederlagen\n• Mentales Training – Schiessen findet im Kopf statt\n• Üben und trainieren – Trainingsweltmeister oder Meisterschütze\n• Trainingspläne\n• Trockenübungen\, Übungen zur Schussabgabe\, Schießpiele\, Wettkämpfe \nAusschreibung zum herunterladen: \nGau Starnberg_Ausschreibung_ Auflage Gewehr
URL:https://gau-starnberg.de/termin/lehrgang-300-plus-erfolgreich-auflageschiessen/
LOCATION:VSG-Pöcking e.V.\, Weilheimer Str. 33a\, Pöcking\, 82343
ORGANIZER;CN="Gau Starnberg%3A Aus- und Weiterbildung":MAILTO:ausbildung@gau-starnberg.de
END:VEVENT
BEGIN:VEVENT
DTSTART;VALUE=DATE:20250627
DTEND;VALUE=DATE:20250630
DTSTAMP:20260421T212415
CREATED:20250123T083541Z
LAST-MODIFIED:20250123T083541Z
UID:15517-1750982400-1751241599@gau-starnberg.de
SUMMARY:1. Wochenende Bayerische Meisterschaft
DESCRIPTION:
URL:https://gau-starnberg.de/termin/1-wochenende-bayerische-meisterschaft/
LOCATION:Olympiaschießanlage Hochbrück\, Ingolstädter Landstr. 110\, Garching / Hochbrück\, 85748
END:VEVENT
END:VCALENDAR