BEGIN:VCALENDAR
VERSION:2.0
PRODID:-//Schützengau Starnberg - ECPv6.15.20//NONSGML v1.0//EN
CALSCALE:GREGORIAN
METHOD:PUBLISH
X-WR-CALNAME:Schützengau Starnberg
X-ORIGINAL-URL:https://gau-starnberg.de
X-WR-CALDESC:Veranstaltungen für Schützengau Starnberg
REFRESH-INTERVAL;VALUE=DURATION:PT1H
X-Robots-Tag:noindex
X-PUBLISHED-TTL:PT1H
BEGIN:VTIMEZONE
TZID:Europe/Berlin
BEGIN:DAYLIGHT
TZOFFSETFROM:+0100
TZOFFSETTO:+0200
TZNAME:CEST
DTSTART:20240331T010000
END:DAYLIGHT
BEGIN:STANDARD
TZOFFSETFROM:+0200
TZOFFSETTO:+0100
TZNAME:CET
DTSTART:20241027T010000
END:STANDARD
BEGIN:DAYLIGHT
TZOFFSETFROM:+0100
TZOFFSETTO:+0200
TZNAME:CEST
DTSTART:20250330T010000
END:DAYLIGHT
BEGIN:STANDARD
TZOFFSETFROM:+0200
TZOFFSETTO:+0100
TZNAME:CET
DTSTART:20251026T010000
END:STANDARD
BEGIN:DAYLIGHT
TZOFFSETFROM:+0100
TZOFFSETTO:+0200
TZNAME:CEST
DTSTART:20260329T010000
END:DAYLIGHT
BEGIN:STANDARD
TZOFFSETFROM:+0200
TZOFFSETTO:+0100
TZNAME:CET
DTSTART:20261025T010000
END:STANDARD
END:VTIMEZONE
BEGIN:VEVENT
DTSTART;TZID=Europe/Berlin:20250201T090000
DTEND;TZID=Europe/Berlin:20250201T120000
DTSTAMP:20260422T051105
CREATED:20250122T104023Z
LAST-MODIFIED:20250122T104023Z
UID:15480-1738400400-1738411200@gau-starnberg.de
SUMMARY:Gaumeisterschaft SpoPi KK
DESCRIPTION:Gaumeisterschaft SpoPi KK
URL:https://gau-starnberg.de/termin/gaumeisterschaft-spopi-kk/
LOCATION:FSG Starnberg\, Hofbuchetstraße 4\, Starnberg\, 82319
END:VEVENT
BEGIN:VEVENT
DTSTART;TZID=Europe/Berlin:20250202T090000
DTEND;TZID=Europe/Berlin:20250202T160000
DTSTAMP:20260422T051105
CREATED:20250122T103838Z
LAST-MODIFIED:20250122T103838Z
UID:15474-1738486800-1738512000@gau-starnberg.de
SUMMARY:Gaumeisterschaft Auflage
DESCRIPTION:Gaumeisterschaft Auflage \nEingang über Schlagenhofener Weg
URL:https://gau-starnberg.de/termin/gaumeisterschaft-auflage/
LOCATION:SG Hechendorf -Güntering\, Alte Hauptstraße 54\, Seefeld\, 82229
END:VEVENT
BEGIN:VEVENT
DTSTART;VALUE=DATE:20250214
DTEND;VALUE=DATE:20250217
DTSTAMP:20260422T051105
CREATED:20250123T070350Z
LAST-MODIFIED:20250123T070350Z
UID:15488-1739491200-1739750399@gau-starnberg.de
SUMMARY:Gaujugendschießen
DESCRIPTION:Gaujugendschießen SG Bavaria Drößling \nEinladung Gaujugendschießen \nSchießzeiten:\n• Freitag\, 14.02.2025 15 – 18 Uhr\n• Samstag\, 15.02.2025 12 – 18 Uhr\n• Sonntag\, 16.02.2025 9 – 15 Uhr\n• Lichtgewehrschießen – 20 Schuss ausschließlich mit den gestellten Lichtgewehren und Schlingen –\n(Teilnehmer im Alter: 10 – 12 Jahre) nur am Sonntag\, 16.02.2025\, 9 – 13 Uhr. Jeder Lichtgewehrschütze\nerhält einen Preis bei der Preisverteilung am Sonntag\, 23.02.2025.\nDie Kasse schließt jeweils eine halbe Stunde vor dem Schießzeitende. Ein Doppelstart beim Lichtgewehrschießen\nund beim normalen Schießen ist nicht möglich. \nWeitere Infos bitte der Ausschreibung entnehmen
URL:https://gau-starnberg.de/termin/gaujugendschiessen-3/
LOCATION:SG Bavaria Drößling e.V\, Höhenbergstraße 10\, Drößling\, 82229
END:VEVENT
BEGIN:VEVENT
DTSTART;TZID=Europe/Berlin:20250216T103000
DTEND;TZID=Europe/Berlin:20250216T113000
DTSTAMP:20260422T051105
CREATED:20250123T081405Z
LAST-MODIFIED:20250123T081405Z
UID:15499-1739701800-1739705400@gau-starnberg.de
SUMMARY:Preisverteilung Fernwettkampf Jugend
DESCRIPTION:
URL:https://gau-starnberg.de/termin/preisverteilung-fernwettkampf-jugend/
LOCATION:SG Bavaria Drößling e.V\, Höhenbergstraße 10\, Drößling\, 82229
END:VEVENT
BEGIN:VEVENT
DTSTART;TZID=Europe/Berlin:20250222T080000
DTEND;TZID=Europe/Berlin:20250223T170000
DTSTAMP:20260422T051105
CREATED:20250122T104135Z
LAST-MODIFIED:20250122T104135Z
UID:15482-1740211200-1740330000@gau-starnberg.de
SUMMARY:Gaumeisterschaft LG/LP
DESCRIPTION:Gaumeisterschaft LG/LP
URL:https://gau-starnberg.de/termin/gaumeisterschaft-lg-lp/
LOCATION:Immergrün Tutzing\, Bernriederstr. 1a\, Tutzing\, 82327
END:VEVENT
BEGIN:VEVENT
DTSTART;TZID=Europe/Berlin:20250223T110000
DTEND;TZID=Europe/Berlin:20250223T130000
DTSTAMP:20260422T051105
CREATED:20250123T071630Z
LAST-MODIFIED:20250123T071630Z
UID:15497-1740308400-1740315600@gau-starnberg.de
SUMMARY:Preisverteilung Gaujugendschießen
DESCRIPTION:Preisverteilung und Königsproklamation:\nDie Preisverteilung findet am Sonntag\, 23.02.2025 um 11 Uhr im Schützenheim „La Fattoria“\,\nHöhenbergstraße10\, 82229 Drößling statt.
URL:https://gau-starnberg.de/termin/preisverteilung-gaujugendschiessen-2/
LOCATION:SG Bavaria Drößling e.V\, Höhenbergstraße 10\, Drößling\, 82229
END:VEVENT
BEGIN:VEVENT
DTSTART;VALUE=DATE:20250226
DTEND;VALUE=DATE:20250227
DTSTAMP:20260422T051105
CREATED:20241106T054509Z
LAST-MODIFIED:20250111T164900Z
UID:15413-1740528000-1740614399@gau-starnberg.de
SUMMARY:Gaujahreshauptversammlung 2025
DESCRIPTION:Anbei die Einladung zur Gaujahreshauptversammlung \n2025 Internet
URL:https://gau-starnberg.de/termin/gaujahreshauptversammlung-2/
LOCATION:Oberpfaffenhofen\, Hochstadter Straße 19\, Oberpfaffenhofen\, Bayern\, 82234
END:VEVENT
END:VCALENDAR