BEGIN:VCALENDAR
VERSION:2.0
PRODID:-//Schützengau Starnberg - ECPv6.15.20//NONSGML v1.0//EN
CALSCALE:GREGORIAN
METHOD:PUBLISH
X-ORIGINAL-URL:https://gau-starnberg.de
X-WR-CALDESC:Veranstaltungen für Schützengau Starnberg
REFRESH-INTERVAL;VALUE=DURATION:PT1H
X-Robots-Tag:noindex
X-PUBLISHED-TTL:PT1H
BEGIN:VTIMEZONE
TZID:Europe/Berlin
BEGIN:DAYLIGHT
TZOFFSETFROM:+0100
TZOFFSETTO:+0200
TZNAME:CEST
DTSTART:20230326T010000
END:DAYLIGHT
BEGIN:STANDARD
TZOFFSETFROM:+0200
TZOFFSETTO:+0100
TZNAME:CET
DTSTART:20231029T010000
END:STANDARD
BEGIN:DAYLIGHT
TZOFFSETFROM:+0100
TZOFFSETTO:+0200
TZNAME:CEST
DTSTART:20240331T010000
END:DAYLIGHT
BEGIN:STANDARD
TZOFFSETFROM:+0200
TZOFFSETTO:+0100
TZNAME:CET
DTSTART:20241027T010000
END:STANDARD
BEGIN:DAYLIGHT
TZOFFSETFROM:+0100
TZOFFSETTO:+0200
TZNAME:CEST
DTSTART:20250330T010000
END:DAYLIGHT
BEGIN:STANDARD
TZOFFSETFROM:+0200
TZOFFSETTO:+0100
TZNAME:CET
DTSTART:20251026T010000
END:STANDARD
END:VTIMEZONE
BEGIN:VEVENT
DTSTART;TZID=Europe/Berlin:20240506T183000
DTEND;TZID=Europe/Berlin:20240506T220000
DTSTAMP:20260425T014505
CREATED:20240218T093454Z
LAST-MODIFIED:20240218T093454Z
UID:15208-1715020200-1715032800@gau-starnberg.de
SUMMARY:Lehrgang für die Verlängerung der VÜL-Lizenz
DESCRIPTION:Aufgrund der vielen Probleme mit Nachwuchs in einigen Vereinen möchten wir mit unserem Lehrgang\ndie Nachwuchsarbeit durch praktische Hilfestellungen\, Tipps etc. in Ihrem Verein unterstützen. \nDieser Lehrgang richtet sich vordergründig für alle Personen mit Vereinsübungsleiter-Ausweis der eine Verlängerung bedarf\,\nauch wenn der VÜL noch nicht abläuft/abgelaufen ist\, kann man sich fortbilden. \nDieser Lehrgang unter dem Motto: „Nachwuchsgewinnung im Verein“ findet am \nMontag\, 06. Mai 2024 ab 18:30 Uhr im Schützenhaus Gilching statt. \nDie Anmeldung zum Lehrgang kann ausschließlich per E-Mail: ausbildung@gau-starnberg.de\, erfolgen. \nDie Ausschreibung finden Sie hier:\nGau Starnberg_Ausschreibung_ VÜL-Verlängerung
URL:https://gau-starnberg.de/termin/lehrgang-fuer-die-verlaengerung-der-vuel-lizenz/
LOCATION:Schützenhaus Gilching\, Talhofstraße 22\, Gilching\, 82205
END:VEVENT
BEGIN:VEVENT
DTSTART;VALUE=DATE:20240511
DTEND;VALUE=DATE:20240512
DTSTAMP:20260425T014505
CREATED:20240129T141053Z
LAST-MODIFIED:20240129T141053Z
UID:15174-1715385600-1715471999@gau-starnberg.de
SUMMARY:Hans-Bösl-Pokal
DESCRIPTION:
URL:https://gau-starnberg.de/termin/hans-boesl-pokal-2/
LOCATION:Immergrün Tutzing\, Bernriederstr. 1a\, Tutzing\, 82327
ORGANIZER;CN="Gau-Damenleitung":MAILTO:ErbKornelia@gmx.de
END:VEVENT
BEGIN:VEVENT
DTSTART;VALUE=DATE:20240518
DTEND;VALUE=DATE:20240519
DTSTAMP:20260425T014505
CREATED:20240129T141131Z
LAST-MODIFIED:20240129T141131Z
UID:15176-1715990400-1716076799@gau-starnberg.de
SUMMARY:Training Gaujugendkader
DESCRIPTION:
URL:https://gau-starnberg.de/termin/training-gaujugendkader-3/
ORGANIZER;CN="Gau-Damenleitung":MAILTO:ErbKornelia@gmx.de
END:VEVENT
END:VCALENDAR