BEGIN:VCALENDAR
VERSION:2.0
PRODID:-//Schützengau Starnberg - ECPv6.15.20//NONSGML v1.0//EN
CALSCALE:GREGORIAN
METHOD:PUBLISH
X-WR-CALNAME:Schützengau Starnberg
X-ORIGINAL-URL:https://gau-starnberg.de
X-WR-CALDESC:Veranstaltungen für Schützengau Starnberg
REFRESH-INTERVAL;VALUE=DURATION:PT1H
X-Robots-Tag:noindex
X-PUBLISHED-TTL:PT1H
BEGIN:VTIMEZONE
TZID:Europe/Berlin
BEGIN:DAYLIGHT
TZOFFSETFROM:+0100
TZOFFSETTO:+0200
TZNAME:CEST
DTSTART:20230326T010000
END:DAYLIGHT
BEGIN:STANDARD
TZOFFSETFROM:+0200
TZOFFSETTO:+0100
TZNAME:CET
DTSTART:20231029T010000
END:STANDARD
BEGIN:DAYLIGHT
TZOFFSETFROM:+0100
TZOFFSETTO:+0200
TZNAME:CEST
DTSTART:20240331T010000
END:DAYLIGHT
BEGIN:STANDARD
TZOFFSETFROM:+0200
TZOFFSETTO:+0100
TZNAME:CET
DTSTART:20241027T010000
END:STANDARD
BEGIN:DAYLIGHT
TZOFFSETFROM:+0100
TZOFFSETTO:+0200
TZNAME:CEST
DTSTART:20250330T010000
END:DAYLIGHT
BEGIN:STANDARD
TZOFFSETFROM:+0200
TZOFFSETTO:+0100
TZNAME:CET
DTSTART:20251026T010000
END:STANDARD
END:VTIMEZONE
BEGIN:VEVENT
DTSTART;TZID=Europe/Berlin:20240405T170000
DTEND;TZID=Europe/Berlin:20240415T170000
DTSTAMP:20260425T033428
CREATED:20240121T192309Z
LAST-MODIFIED:20240121T193549Z
UID:15136-1712336400-1713200400@gau-starnberg.de
SUMMARY:Gau- und Gauauflageschießen 2024
DESCRIPTION:Sehr geehrte Damen und Herren\, liebe jugendliche\,\n \nanbei finden Sie das Programmheft zum Gau- und Gauauflageschießen 2024\, ausgerichtet von der Schützengesellschaft 1874 Percha e.V.\n \n \n\n\n\n    \n            \n            \n        \n    \n            \n                Programm GS und Auflage GS 2024\n                 1 Datei(en)  5.52 MB\n            \n            \n\n            \n        \n    \n\n\n\n \n \nSchießzeiten:\nFreitag 05.04.2024 17:00 – 21:30\nSamstag 06.04.2024 10:00 – 17:00\nSonntag 07.04.2024 10:00 – 17:00\nMontag 08.04.2024 13:00 – 21:30\nDienstag 09.04.2024 18:00 – 21:30\nMittwoch 10.04.2024 18:00 – 21:30\nDonnerstag 11.04.2024 18:00 – 21:30\nFreitag 12.04.2024 17:00 – 21:30\nSamstag 13.04.2024 10:00 – 17:00\nSonntag 14.04.2024 10:00 – 17:00\nMontag 15.04.2024 17:00 – 21:30\n\n\n\n\n\n\n\n\n\n\n\n\n\n\nHier klicken\, um den Text zu bearbeiten… \n\n\n\n\n\n\n\n\n\n\n\n\n\n\nHier klicken\, um den Text zu bearbeiten…
URL:https://gau-starnberg.de/termin/gau-und-gauauflageschiessen-2024/
LOCATION:FSG Starnberg\, Hofbuchetstraße 4\, Starnberg\, 82319
END:VEVENT
BEGIN:VEVENT
DTSTART;TZID=Europe/Berlin:20240413T140000
DTEND;TZID=Europe/Berlin:20240413T160000
DTSTAMP:20260425T033428
CREATED:20240129T140447Z
LAST-MODIFIED:20240129T140447Z
UID:15165-1713016800-1713024000@gau-starnberg.de
SUMMARY:Preisverteilung Gaujugendschießen
DESCRIPTION:
URL:https://gau-starnberg.de/termin/preisverteilung-gaujugendschiessen/
LOCATION:FT09 Starnberg\, Ottostr. 39\, Starnberg\, 82319
END:VEVENT
BEGIN:VEVENT
DTSTART;VALUE=DATE:20240420
DTEND;VALUE=DATE:20240421
DTSTAMP:20260425T033428
CREATED:20240129T140616Z
LAST-MODIFIED:20240129T140616Z
UID:15168-1713571200-1713657599@gau-starnberg.de
SUMMARY:Training Gaujugendkader
DESCRIPTION:
URL:https://gau-starnberg.de/termin/training-gaujugendkader-2/
ORGANIZER;CN="Gau-Damenleitung":MAILTO:ErbKornelia@gmx.de
END:VEVENT
BEGIN:VEVENT
DTSTART;TZID=Europe/Berlin:20240427T130000
DTEND;TZID=Europe/Berlin:20240427T180000
DTSTAMP:20260425T033428
CREATED:20240121T194000Z
LAST-MODIFIED:20240121T194000Z
UID:15144-1714222800-1714240800@gau-starnberg.de
SUMMARY:Preisverteilung Gau- und Gauauflageschießen 2024
DESCRIPTION:Einlass 11 Uhr \nBeginn 13 Uhr
URL:https://gau-starnberg.de/termin/preisverteilung-gau-und-gauauflageschiessen-2024/
LOCATION:Mehrzweckhalle Percha Berger Str. 5 82319 Starnberg/Percha\, Berger Straße 5\, Starnberg-Percha\, 82319
END:VEVENT
END:VCALENDAR