BEGIN:VCALENDAR
VERSION:2.0
PRODID:-//Schützengau Starnberg - ECPv6.15.20//NONSGML v1.0//EN
CALSCALE:GREGORIAN
METHOD:PUBLISH
X-WR-CALNAME:Schützengau Starnberg
X-ORIGINAL-URL:https://gau-starnberg.de
X-WR-CALDESC:Veranstaltungen für Schützengau Starnberg
REFRESH-INTERVAL;VALUE=DURATION:PT1H
X-Robots-Tag:noindex
X-PUBLISHED-TTL:PT1H
BEGIN:VTIMEZONE
TZID:Europe/Berlin
BEGIN:DAYLIGHT
TZOFFSETFROM:+0100
TZOFFSETTO:+0200
TZNAME:CEST
DTSTART:20220327T010000
END:DAYLIGHT
BEGIN:STANDARD
TZOFFSETFROM:+0200
TZOFFSETTO:+0100
TZNAME:CET
DTSTART:20221030T010000
END:STANDARD
BEGIN:DAYLIGHT
TZOFFSETFROM:+0100
TZOFFSETTO:+0200
TZNAME:CEST
DTSTART:20230326T010000
END:DAYLIGHT
BEGIN:STANDARD
TZOFFSETFROM:+0200
TZOFFSETTO:+0100
TZNAME:CET
DTSTART:20231029T010000
END:STANDARD
BEGIN:DAYLIGHT
TZOFFSETFROM:+0100
TZOFFSETTO:+0200
TZNAME:CEST
DTSTART:20240331T010000
END:DAYLIGHT
BEGIN:STANDARD
TZOFFSETFROM:+0200
TZOFFSETTO:+0100
TZNAME:CET
DTSTART:20241027T010000
END:STANDARD
END:VTIMEZONE
BEGIN:VEVENT
DTSTART;TZID=Europe/Berlin:20231104T120000
DTEND;TZID=Europe/Berlin:20231104T120000
DTSTAMP:20260425T131137
CREATED:20230531T045740Z
LAST-MODIFIED:20230531T045740Z
UID:14763-1699099200-1699099200@gau-starnberg.de
SUMMARY:Kellermeisterschaft 2023
DESCRIPTION:2023_Ausschreibung
URL:https://gau-starnberg.de/termin/kellermeisterschaft-2023/
LOCATION:Schützenhaus Gilching\, Talhofstraße 22\, Gilching\, 82205
ORGANIZER;CN="SG-Edelwei%C3%9F Gilching":MAILTO:SGEdelweiss-Gilching@hotmail.com
END:VEVENT
BEGIN:VEVENT
DTSTART;TZID=Europe/Berlin:20231104T120000
DTEND;TZID=Europe/Berlin:20231104T120000
DTSTAMP:20260425T131137
CREATED:20250525T193226Z
LAST-MODIFIED:20250525T193226Z
UID:15724-1699099200-1699099200@gau-starnberg.de
SUMMARY:Kellermeisterschaft 2025
DESCRIPTION:Wir laden ein zur Kellermeisterschaft  des  Gaus Starnberg\, ins \n  \n\n\n\nHotel Schützenhaus\, Talhofstr. 22\, 82205 Gilching \nTermin:     08. November 2025 \nWir starten ab 12.00 Uhr – Schießbeginn um 13.00 Uhr\n\n\n\n\n  \nNachfolgend nochmal der Modus – für die\, die nicht wissen was sie erwartet: \nGeschossen wird nach dem Schweizer System. Das Losglück bringt dabei zwei Pistolenschützen als direkte Gegner an die Stände. Geschossen werden jeweils drei Schuss ohne Probe. Gleichstand wird durch Stechschuss gelöst. Der Sieger erhält einen Punkt. Die Paarungen der nächsten Runde werden jeweils unter punktgleichen Schützen ausgelost. Die Paarungen mischen sich jedes Mal neu\, Losglück und Nervenstärke sind ebenso gefragt\, wie Können und Flexibilität. Es werden ca. 8 – 10 Vorrunden geschossen. \nDie besten vier Schützen aus den Vorrunden sind direkt für das Finale qualifiziert. Die nächsten sechs Schützen schießen in einem kleinen Finale im K.O System die letzten beiden Plätze für das Finale aus. Die vier besten aus der Vorrunde und die zwei Gewinner aus dem kleinen Finale tragen das Finale im K.O.-System aus. Danach gibt’s Pizza bis zum Abwinken. \n  \nFinale gegen 17.00 Uhr\, Preisverteilung  gegen 17.30 Uhr\, ab 18.00 Uhr Pizza \nStartgeld:        15\,00 € Schießen inkl. Pizza \n10\,00 € nur Schießen \n10\,00 € nur Pizza \nFür eine reibungslose Planung ist eine vorherige Online-Anmeldung erforderlich. Die Zahl der Schützen ist auf 40 begrenzt. Anmeldungen daher im „Windhundprinzip“ unter\nSGEdelweiss-Gilching@hotmail.com. Über diese Adresse könnt Ihr natürlich auch nähere Informationen abfragen.  Für Telefonische Nachfragen und WhatsApp wählt: 0170-5417559 \n  \nWir freuen uns auf möglichst viele Teilnehmer und auf einen schönen Schießnachmittag. \n  \nFür die Edelweiß-Schützen Gilching \nMichael Laube             
URL:https://gau-starnberg.de/termin/kellermeisterschaft-2025/
LOCATION:Schützenhaus Gilching\, Talhofstraße 22\, Gilching\, 82205
ORGANIZER;CN="SG-Edelwei%C3%9F Gilching":MAILTO:SGEdelweiss-Gilching@hotmail.com
END:VEVENT
BEGIN:VEVENT
DTSTART;TZID=Europe/Berlin:20231108T170000
DTEND;TZID=Europe/Berlin:20231108T213000
DTSTAMP:20260425T131137
CREATED:20231027T060450Z
LAST-MODIFIED:20231027T062320Z
UID:14995-1699462800-1699479000@gau-starnberg.de
SUMMARY:Sauschießen Geisenbrunn
DESCRIPTION:EinladungSauschießen2023
URL:https://gau-starnberg.de/termin/sauschiessen-hubertus-geisenbrunn/
LOCATION:Gaststätte Geisenbrunn / Speisewerk\, Tonwerkstraße 3\, Geisenbrunn\, 82205\, Deutschland
END:VEVENT
BEGIN:VEVENT
DTSTART;TZID=Europe/Berlin:20231109T170000
DTEND;TZID=Europe/Berlin:20231109T213000
DTSTAMP:20260425T131137
CREATED:20231027T062212Z
LAST-MODIFIED:20231027T062212Z
UID:15007-1699549200-1699565400@gau-starnberg.de
SUMMARY:Sauschießen Geisenbrunn
DESCRIPTION:EinladungSauschießen2023
URL:https://gau-starnberg.de/termin/sauschiessen-geisenbrunn-4/
LOCATION:Gaststätte Geisenbrunn / Speisewerk\, Tonwerkstraße 3\, Geisenbrunn\, 82205\, Deutschland
END:VEVENT
BEGIN:VEVENT
DTSTART;TZID=Europe/Berlin:20231110T140000
DTEND;TZID=Europe/Berlin:20231110T200000
DTSTAMP:20260425T131137
CREATED:20231027T061150Z
LAST-MODIFIED:20231027T062302Z
UID:15000-1699624800-1699646400@gau-starnberg.de
SUMMARY:Sauschießen Geisenbrunn
DESCRIPTION:EinladungSauschießen2023
URL:https://gau-starnberg.de/termin/sauschiessen-geisenbrunn/
LOCATION:Gaststätte Geisenbrunn / Speisewerk\, Tonwerkstraße 3\, Geisenbrunn\, 82205\, Deutschland
END:VEVENT
BEGIN:VEVENT
DTSTART;TZID=Europe/Berlin:20231111T120000
DTEND;TZID=Europe/Berlin:20231111T200000
DTSTAMP:20260425T131137
CREATED:20231027T061431Z
LAST-MODIFIED:20231027T061435Z
UID:15002-1699704000-1699732800@gau-starnberg.de
SUMMARY:Sauschießen Geisenbrunn
DESCRIPTION:EinladungSauschießen2023
URL:https://gau-starnberg.de/termin/sauschiessen-geisenbrunn-2/
LOCATION:Gaststätte Geisenbrunn / Speisewerk\, Tonwerkstraße 3\, Geisenbrunn\, 82205\, Deutschland
END:VEVENT
BEGIN:VEVENT
DTSTART;TZID=Europe/Berlin:20231115T170000
DTEND;TZID=Europe/Berlin:20231115T213000
DTSTAMP:20260425T131137
CREATED:20231027T061601Z
LAST-MODIFIED:20231027T062354Z
UID:15004-1700067600-1700083800@gau-starnberg.de
SUMMARY:Sauschießen Geisenbrunn
DESCRIPTION:EinladungSauschießen2023
URL:https://gau-starnberg.de/termin/sauschiessen-geisenbrunn-3/
LOCATION:Gaststätte Geisenbrunn / Speisewerk\, Tonwerkstraße 3\, Geisenbrunn\, 82205\, Deutschland
END:VEVENT
BEGIN:VEVENT
DTSTART;TZID=Europe/Berlin:20231116T170000
DTEND;TZID=Europe/Berlin:20231116T213000
DTSTAMP:20260425T131137
CREATED:20231027T062505Z
LAST-MODIFIED:20231027T062505Z
UID:15010-1700154000-1700170200@gau-starnberg.de
SUMMARY:Sauschießen Geisenbrunn
DESCRIPTION:EinladungSauschießen2023
URL:https://gau-starnberg.de/termin/sauschiessen-geisenbrunn-5/
LOCATION:Gaststätte Geisenbrunn / Speisewerk\, Tonwerkstraße 3\, Geisenbrunn\, 82205\, Deutschland
END:VEVENT
BEGIN:VEVENT
DTSTART;TZID=Europe/Berlin:20231118T190000
DTEND;TZID=Europe/Berlin:20231118T220000
DTSTAMP:20260425T131137
CREATED:20231027T062744Z
LAST-MODIFIED:20231027T062744Z
UID:15012-1700334000-1700344800@gau-starnberg.de
SUMMARY:Preisverteilung Sauschießen Geisenbrunn
DESCRIPTION:EinladungSauschießen2023
URL:https://gau-starnberg.de/termin/preisverteilung-sauschiessen-geisenbrunn/
LOCATION:Gaststätte Geisenbrunn / Speisewerk\, Tonwerkstraße 3\, Geisenbrunn\, 82205\, Deutschland
END:VEVENT
BEGIN:VEVENT
DTSTART;TZID=Europe/Berlin:20231130T190000
DTEND;TZID=Europe/Berlin:20231130T203000
DTSTAMP:20260425T131137
CREATED:20231027T054426Z
LAST-MODIFIED:20240129T141655Z
UID:14988-1701370800-1701376200@gau-starnberg.de
SUMMARY:offenes Gau-Luftpistolentraining
DESCRIPTION:
URL:https://gau-starnberg.de/termin/offenes-gau-luftpistolentraining/
LOCATION:Schützenhaus Gilching\, Talhofstraße 22\, Gilching\, 82205
ORGANIZER;CN="Pistolenreferat":MAILTO:SGEdelweiss-Gilching@hotmail.com
END:VEVENT
END:VCALENDAR