BEGIN:VCALENDAR
VERSION:2.0
PRODID:-//Schützengau Starnberg - ECPv6.15.20//NONSGML v1.0//EN
CALSCALE:GREGORIAN
METHOD:PUBLISH
X-WR-CALNAME:Schützengau Starnberg
X-ORIGINAL-URL:https://gau-starnberg.de
X-WR-CALDESC:Veranstaltungen für Schützengau Starnberg
REFRESH-INTERVAL;VALUE=DURATION:PT1H
X-Robots-Tag:noindex
X-PUBLISHED-TTL:PT1H
BEGIN:VTIMEZONE
TZID:Europe/Berlin
BEGIN:DAYLIGHT
TZOFFSETFROM:+0100
TZOFFSETTO:+0200
TZNAME:CEST
DTSTART:20220327T010000
END:DAYLIGHT
BEGIN:STANDARD
TZOFFSETFROM:+0200
TZOFFSETTO:+0100
TZNAME:CET
DTSTART:20221030T010000
END:STANDARD
BEGIN:DAYLIGHT
TZOFFSETFROM:+0100
TZOFFSETTO:+0200
TZNAME:CEST
DTSTART:20230326T010000
END:DAYLIGHT
BEGIN:STANDARD
TZOFFSETFROM:+0200
TZOFFSETTO:+0100
TZNAME:CET
DTSTART:20231029T010000
END:STANDARD
BEGIN:DAYLIGHT
TZOFFSETFROM:+0100
TZOFFSETTO:+0200
TZNAME:CEST
DTSTART:20240331T010000
END:DAYLIGHT
BEGIN:STANDARD
TZOFFSETFROM:+0200
TZOFFSETTO:+0100
TZNAME:CET
DTSTART:20241027T010000
END:STANDARD
END:VTIMEZONE
BEGIN:VEVENT
DTSTART;VALUE=DATE:20230318
DTEND;VALUE=DATE:20230319
DTSTAMP:20260426T025643
CREATED:20230328T143451Z
LAST-MODIFIED:20230328T143451Z
UID:14382-1679097600-1679183999@gau-starnberg.de
SUMMARY:17. Gaumeisterschaft Zimmerstutzen
DESCRIPTION:
URL:https://gau-starnberg.de/termin/17-gaumeisterschaft-zimmerstutzen/
END:VEVENT
BEGIN:VEVENT
DTSTART;VALUE=DATE:20230326
DTEND;VALUE=DATE:20230327
DTSTAMP:20260426T025643
CREATED:20230326T195037Z
LAST-MODIFIED:20230328T144636Z
UID:14372-1679788800-1679875199@gau-starnberg.de
SUMMARY:Hans Bösl Pokal
DESCRIPTION:
URL:https://gau-starnberg.de/termin/hans-boesl-pokal/
LOCATION:Oberpfaffenhofen\, Hochstadter Straße 19\, Oberpfaffenhofen\, Bayern\, 82234
END:VEVENT
END:VCALENDAR